BEGIN:VCALENDAR
VERSION:2.0
PRODID:-//Chermside Guide - ECPv6.15.20//NONSGML v1.0//EN
CALSCALE:GREGORIAN
METHOD:PUBLISH
X-ORIGINAL-URL:https://chermsideguide.com.au
X-WR-CALDESC:Events for Chermside Guide
REFRESH-INTERVAL;VALUE=DURATION:PT1H
X-Robots-Tag:noindex
X-PUBLISHED-TTL:PT1H
BEGIN:VTIMEZONE
TZID:Australia/Brisbane
BEGIN:STANDARD
TZOFFSETFROM:+1000
TZOFFSETTO:+1000
TZNAME:AEST
DTSTART:20250101T000000
END:STANDARD
END:VTIMEZONE
BEGIN:VEVENT
DTSTART;TZID=Australia/Brisbane:20260421T103000
DTEND;TZID=Australia/Brisbane:20260421T103000
DTSTAMP:20260421T032057
CREATED:20250117T044612Z
LAST-MODIFIED:20260309T015633Z
UID:10001146-1776767400-1776767400@chermsideguide.com.au
SUMMARY:Gala day with Deana Peher at Geebung RSL
DESCRIPTION:Celebrate Gala Day with Deana Peher at Geebung RSL! Enjoy free live\, 10:30am! \nFun Frivolity Game Prize. $25 for 2 course lunch + Show
URL:https://chermsideguide.com.au/event/gala-day-with-deana-peher-at-geebung-rsl/
LOCATION:Geebung RSL\, 323 Newman Rd\, Geebung\, QLD\, 4034
ATTACH;FMTTYPE=image/jpeg:https://chermsideguide.com.au/wp-content/uploads/2025/01/shutterstock_2446450751.jpg
ORGANIZER;CN="geebung rsl":MAILTO:info@geebungrsl.com.au
END:VEVENT
BEGIN:VEVENT
DTSTART;TZID=Australia/Brisbane:20260422T110000
DTEND;TZID=Australia/Brisbane:20260422T140000
DTSTAMP:20260421T032057
CREATED:20260310T012727Z
LAST-MODIFIED:20260310T012727Z
UID:10004623-1776855600-1776866400@chermsideguide.com.au
SUMMARY:SOUNDBITES | MICHAEL WHITMORE AT KEDRON-WAVELL
DESCRIPTION:A stylish and professional performer\, Michael is as at home on the big stage in cabaret as he is on the small stage performing as a one man band. Michael is a very strong vocalist with a repertoire that is extensive to say the least – from Patsy Cline to Ricky Martin\, Englebert to Patricio\, Country to Rock ‘n’ Roll.
URL:https://chermsideguide.com.au/event/soundbites-michael-whitmore-at-kedron-wavell-4/
ATTACH;FMTTYPE=image/jpeg:https://chermsideguide.com.au/wp-content/uploads/2024/07/Michael-Whitmore-1200x680-1.jpg
END:VEVENT
BEGIN:VEVENT
DTSTART;TZID=Australia/Brisbane:20260422T190000
DTEND;TZID=Australia/Brisbane:20260422T210000
DTSTAMP:20260421T032057
CREATED:20260210T111117Z
LAST-MODIFIED:20260210T130453Z
UID:10004556-1776884400-1776891600@chermsideguide.com.au
SUMMARY:Wednesday Night Trivia at the Homestead Tavern
DESCRIPTION:Think you’ve got what it takes? \nJoin in at the Homestead Tavern every Wednesday night from 7pm for Trivia—good questions\, good laughs\, and even better company.
URL:https://chermsideguide.com.au/event/wednesday-night-trivia-at-the-homestead-tavern-boondall/2026-04-22/
LOCATION:Homestead Tavern\, 114 Zillmere Road\, Boondall\, 4034\, Australia
ATTACH;FMTTYPE=image/png:https://chermsideguide.com.au/wp-content/uploads/2026/02/511114225_1190919746380190_6338681115544814322_n-1200x680-1.png
ORGANIZER;CN="Homestead Tavern":MAILTO:manager@homesteadtavern.com.au
END:VEVENT
BEGIN:VEVENT
DTSTART;TZID=Australia/Brisbane:20260423T190000
DTEND;TZID=Australia/Brisbane:20260423T210000
DTSTAMP:20260421T032057
CREATED:20251223T041319Z
LAST-MODIFIED:20251223T041319Z
UID:10003294-1776970800-1776978000@chermsideguide.com.au
SUMMARY:Trivia Thursday's at Kedron-Wavell
DESCRIPTION:Join us for an exciting evening of trivia at Kedron-Wavell\, hosted by Shaun! Test your knowledge\, enjoy great company and win awesome prizes. Whether you’re a seasoned-pro or a trivia newbie\, we’ve got something for everyone at our free weekly trivia! Grab your friends and join us for a night of guaranteed fun! \nTime: Registration from 7pm | Trivia starts 7:30pm \nWhen: Every Thursday night \nWhere: Kedron-Wavell in the Bravo Bar \nPrice: Free! \nBookings for this event are preferred. Call (07) 3359 9122 or click here to book your team in.
URL:https://chermsideguide.com.au/event/trivia-thursdays-at-kedron-wavell/2026-04-23/
LOCATION:Kedron-Wavell\, 21 Kittyhawk Drive\, Chermside\, 4032\, Australia
ATTACH;FMTTYPE=image/jpeg:https://chermsideguide.com.au/wp-content/uploads/2025/07/Web-Tile-600-x-357-Trivia-2048x1280-1.jpg
ORGANIZER;CN="Kedron-Wavell":MAILTO:kwsc_marketing@kedron-wavell.com.au
END:VEVENT
BEGIN:VEVENT
DTSTART;TZID=Australia/Brisbane:20260424T170000
DTEND;TZID=Australia/Brisbane:20260424T200000
DTSTAMP:20260421T032057
CREATED:20260107T112145Z
LAST-MODIFIED:20260107T112145Z
UID:10003517-1777050000-1777060800@chermsideguide.com.au
SUMMARY:Live Music - The Sporting Globe | Chermside
DESCRIPTION:Enjoy your Friday & Saturday Nights at The Sporting Globe Chermside with live music!
URL:https://chermsideguide.com.au/event/live-music-the-sporting-globe-chermside/2026-04-24/
LOCATION:The Sporting Globe\, Shop R1\, Gympie Rd\, Chermside\, QLD\, 4032\, Australia
ATTACH;FMTTYPE=image/jpeg:https://chermsideguide.com.au/wp-content/uploads/2026/01/CM_LM.jpg
ORGANIZER;CN="The Sporting Globe":MAILTO:chermside@sportingglobe.com.au
END:VEVENT
BEGIN:VEVENT
DTSTART;TZID=Australia/Brisbane:20260424T170000
DTEND;TZID=Australia/Brisbane:20260424T200000
DTSTAMP:20260421T032057
CREATED:20260313T020015Z
LAST-MODIFIED:20260313T020015Z
UID:10004635-1777050000-1777060800@chermsideguide.com.au
SUMMARY:FREE LIVE MUSIC | GREG BAWDEN AT KEDRON-WAVELL
DESCRIPTION:Greg Bawden has a wealth of experience in entertaining patrons across a variety of musical genres over many decades. This enables his performance catalogue to span the 60’s to now. His easy listening style and acoustic versions of crowd favourites are sure to strike a chord and have your feet tapping and hands clapping.
URL:https://chermsideguide.com.au/event/free-live-music-greg-bawden-at-kedron-wavell/
ATTACH;FMTTYPE=image/png:https://chermsideguide.com.au/wp-content/uploads/2026/03/Greg-Bawden.png
END:VEVENT
BEGIN:VEVENT
DTSTART;TZID=Australia/Brisbane:20260424T170000
DTEND;TZID=Australia/Brisbane:20260424T210000
DTSTAMP:20260421T032057
CREATED:20260210T114348Z
LAST-MODIFIED:20260210T130610Z
UID:10004296-1777050000-1777064400@chermsideguide.com.au
SUMMARY:Live Music Fridays at the Homestead Tavern
DESCRIPTION:Start your weekend right with Live Music Fridays at Homestead Tavern from 5pm. \nEnjoy live local music\, great atmosphere\, and all your favourites at the bar. \nMake yourself at home\, with a courtesy bus running from 2:30pm until late for a stress-free night out.
URL:https://chermsideguide.com.au/event/live-music-fridays-at-the-homestead-tavern-boondall/2026-04-24/
LOCATION:Homestead Tavern\, 114 Zillmere Road\, Boondall\, 4034\, Australia
ATTACH;FMTTYPE=image/png:https://chermsideguide.com.au/wp-content/uploads/2026/02/Friday-music_1200x680.png
ORGANIZER;CN="Homestead Tavern":MAILTO:manager@homesteadtavern.com.au
END:VEVENT
BEGIN:VEVENT
DTSTART;TZID=Australia/Brisbane:20260424T190000
DTEND;TZID=Australia/Brisbane:20260424T190000
DTSTAMP:20260421T032057
CREATED:20250117T044557Z
LAST-MODIFIED:20260309T021553Z
UID:10004617-1777057200-1777057200@chermsideguide.com.au
SUMMARY:Craig Shaw at Geebung RSL
DESCRIPTION:Craig Shaw brings captivating keyboard vocals to Geebung RSL.
URL:https://chermsideguide.com.au/event/craig-shaw-at-geebung-rsl/2026-04-24/
LOCATION:Geebung RSL\, 323 Newman Rd\, Geebung\, QLD\, 4034
ATTACH;FMTTYPE=image/jpeg:https://chermsideguide.com.au/wp-content/uploads/2025/01/Craig-Shaw.jpg
ORGANIZER;CN="geebung rsl":MAILTO:info@geebungrsl.com.au
END:VEVENT
BEGIN:VEVENT
DTSTART;TZID=Australia/Brisbane:20260424T200000
DTEND;TZID=Australia/Brisbane:20260424T200000
DTSTAMP:20260421T032057
CREATED:20260313T020723Z
LAST-MODIFIED:20260313T020728Z
UID:10004638-1777060800-1777060800@chermsideguide.com.au
SUMMARY:FREE LIVE MUSIC | DRIVETIME DUO AT KEDRON-WAVELL
DESCRIPTION:The DRIVETIME Duo is the perfect party act for weddings\, corporate events and venues. Tony Boyd – Lead vocals & acoustic guitar. Tony’s voice is the heart of DriveTime! His vocal range and power breathe life and emotion into songs\, engaging the crowd and ensuring every show leaves an outstanding impression! Tony has many years of experience fronting bands including the original Melbourne based DriveTime\, and performing at venues including 4 years residency at Crown Casino Melbourne\, and various shows for 3 years running at the Australian Open Tennis. Rob Penman – Drums & vocals. In the engine room we have the turbo charged\, supercharged\, nitro V8 of drummers! Rob is the ultimate time keeper and backbone of the DriveTime sound. He also sings harmonies and sings some lead vocals.
URL:https://chermsideguide.com.au/event/free-live-music-drivetime-duo-at-kedron-wavell-4/
ATTACH;FMTTYPE=image/jpeg:https://chermsideguide.com.au/wp-content/uploads/2024/07/DriveTime-Duo.jpg
END:VEVENT
BEGIN:VEVENT
DTSTART;TZID=Australia/Brisbane:20260425T130000
DTEND;TZID=Australia/Brisbane:20260425T130000
DTSTAMP:20260421T032057
CREATED:20260309T021726Z
LAST-MODIFIED:20260309T021727Z
UID:10004618-1777122000-1777122000@chermsideguide.com.au
SUMMARY:ANZAC DAY with Jared Alexander at Geebung RSL
DESCRIPTION:Enjoy free live entertainment with popular favorite Jared Alexander at Geebung RSL
URL:https://chermsideguide.com.au/event/jared-alexander-at-geebung-rsl-2/
LOCATION:Geebung RSL\, 323 Newman Rd\, Geebung\, QLD\, 4034
ATTACH;FMTTYPE=image/jpeg:https://chermsideguide.com.au/wp-content/uploads/2025/01/Jared-Alexander-Horizontal.jpg
ORGANIZER;CN="geebung rsl":MAILTO:info@geebungrsl.com.au
END:VEVENT
BEGIN:VEVENT
DTSTART;TZID=Australia/Brisbane:20260425T130000
DTEND;TZID=Australia/Brisbane:20260425T160000
DTSTAMP:20260421T032057
CREATED:20260313T015445Z
LAST-MODIFIED:20260313T015445Z
UID:10004632-1777122000-1777132800@chermsideguide.com.au
SUMMARY:FREE LIVE MUSIC | TOM ROBERTS AT KEDRON-WAVELL
DESCRIPTION:A true professional\, Tom has performed at countless weddings\, events and venues across Australia. A beautiful\, soulful voice matched with fine guitar skills have delighted people of all ages and musical tastes. Whether you’re looking for a solo acoustic performance\, or something a little bigger with a duo or trio\, Tom has the talent and experience to make your event a success. With a vast catalogue of thousands of songs across a range of genres\, Tom is sure to have something for every taste and can tailor his performances to suit the specific needs and atmosphere of your event. Let Tom bring the magic of live music to your next occasion.
URL:https://chermsideguide.com.au/event/free-live-music-tom-roberts-at-kedron-wavell-2/
ATTACH;FMTTYPE=image/jpeg:https://chermsideguide.com.au/wp-content/uploads/2025/12/Tom-Roberts-1.jpg
END:VEVENT
BEGIN:VEVENT
DTSTART;TZID=Australia/Brisbane:20260425T170000
DTEND;TZID=Australia/Brisbane:20260425T200000
DTSTAMP:20260421T032057
CREATED:20260107T112145Z
LAST-MODIFIED:20260107T112145Z
UID:10003518-1777136400-1777147200@chermsideguide.com.au
SUMMARY:Live Music - The Sporting Globe | Chermside
DESCRIPTION:Enjoy your Friday & Saturday Nights at The Sporting Globe Chermside with live music!
URL:https://chermsideguide.com.au/event/live-music-the-sporting-globe-chermside/2026-04-25/
LOCATION:The Sporting Globe\, Shop R1\, Gympie Rd\, Chermside\, QLD\, 4032\, Australia
ATTACH;FMTTYPE=image/jpeg:https://chermsideguide.com.au/wp-content/uploads/2026/01/CM_LM.jpg
ORGANIZER;CN="The Sporting Globe":MAILTO:chermside@sportingglobe.com.au
END:VEVENT
BEGIN:VEVENT
DTSTART;TZID=Australia/Brisbane:20260425T170000
DTEND;TZID=Australia/Brisbane:20260425T200000
DTSTAMP:20260421T032057
CREATED:20260313T061133Z
LAST-MODIFIED:20260313T061217Z
UID:10004642-1777136400-1777147200@chermsideguide.com.au
SUMMARY:FREE LIVE MUSIC | DIRTY BOOTS TRIO AT KEDRON-WAVELL
DESCRIPTION:Dirty Boots are a high-energy trio delivering the best of Aussie rock\, pop & country. With decades of experience between them\, Marco (Guitar/Vocals)\, Jayde (Vocals/Percussion) and Daniel (Drums/Vocals) bring iconic Aussie anthems and forgotten favourites back to life. Crowd favourites on Australia Day and Anzac Day — get ready to sing along!
URL:https://chermsideguide.com.au/event/free-live-music-dirty-boots-trio-at-kedron-wavell/
END:VEVENT
BEGIN:VEVENT
DTSTART;TZID=Australia/Brisbane:20260425T200000
DTEND;TZID=Australia/Brisbane:20260425T233000
DTSTAMP:20260421T032057
CREATED:20260210T113513Z
LAST-MODIFIED:20260210T130731Z
UID:10004033-1777147200-1777159800@chermsideguide.com.au
SUMMARY:Saturday Night Karaoke at the Homestead Tavern
DESCRIPTION:Sing it loud this Saturday! \nJoin in at the Homestead Tavern for Karaoke every Saturday night from 8pm. \nWith a courtesy bus running from 2:30pm till late\, getting here (and home) is easy. \nBook the bus – 0401 088 646
URL:https://chermsideguide.com.au/event/saturday-night-karaoke-at-the-homestead-tavern-boondall/2026-04-25/
LOCATION:Homestead Tavern\, 114 Zillmere Road\, Boondall\, 4034\, Australia
ATTACH;FMTTYPE=image/png:https://chermsideguide.com.au/wp-content/uploads/2026/02/karaoke_1200x680.png
ORGANIZER;CN="Homestead Tavern":MAILTO:manager@homesteadtavern.com.au
END:VEVENT
BEGIN:VEVENT
DTSTART;TZID=Australia/Brisbane:20260425T210000
DTEND;TZID=Australia/Brisbane:20260425T210000
DTSTAMP:20260421T032057
CREATED:20260313T061320Z
LAST-MODIFIED:20260313T061324Z
UID:10004643-1777150800-1777150800@chermsideguide.com.au
SUMMARY:FREE LIVE MUSIC | DIRTY BOOTS TRIO AT KEDRON-WAVELL
DESCRIPTION:Dirty Boots are a high-energy trio delivering the best of Aussie rock\, pop & country. With decades of experience between them\, Marco (Guitar/Vocals)\, Jayde (Vocals/Percussion) and Daniel (Drums/Vocals) bring iconic Aussie anthems and forgotten favourites back to life. Crowd favourites on Australia Day and Anzac Day — get ready to sing along!
URL:https://chermsideguide.com.au/event/free-live-music-dirty-boots-trio-at-kedron-wavell-2/
END:VEVENT
BEGIN:VEVENT
DTSTART;TZID=Australia/Brisbane:20260426T133000
DTEND;TZID=Australia/Brisbane:20260426T170000
DTSTAMP:20260421T032057
CREATED:20260310T013819Z
LAST-MODIFIED:20260310T013819Z
UID:10004628-1777210200-1777222800@chermsideguide.com.au
SUMMARY:FREE LIVE MUSIC | JESSE CAIT AT KEDRON-WAVELL
DESCRIPTION:Jesse Cait is a one woman band from Brisbane Australia. Boasting soothing vocal tones with the accompaniment of acoustic guitar and foot drums\, she makes all your favourite songs throughout the decades come to life in her performances.
URL:https://chermsideguide.com.au/event/free-live-music-jesse-cait-at-kedron-wavell/
ATTACH;FMTTYPE=image/jpeg:https://chermsideguide.com.au/wp-content/uploads/2026/03/Jesse-Cait-2.jpg
END:VEVENT
BEGIN:VEVENT
DTSTART;TZID=Australia/Brisbane:20260426T190000
DTEND;TZID=Australia/Brisbane:20260426T190000
DTSTAMP:20260421T032057
CREATED:20250117T044557Z
LAST-MODIFIED:20260309T021835Z
UID:10004619-1777230000-1777230000@chermsideguide.com.au
SUMMARY:Marco at Geebung RSL | Sandgate
DESCRIPTION:Join Marco\, a popular favorite\, for free live entertainment at Geebung RSL.
URL:https://chermsideguide.com.au/event/marco-at-geebung-rsl/2026-04-26/
LOCATION:Geebung RSL\, 323 Newman Rd\, Geebung\, QLD\, 4034
ATTACH;FMTTYPE=image/jpeg:https://chermsideguide.com.au/wp-content/uploads/2024/10/marco.jpg
ORGANIZER;CN="geebung rsl":MAILTO:info@geebungrsl.com.au
END:VEVENT
BEGIN:VEVENT
DTSTART;TZID=Australia/Brisbane:20260429T110000
DTEND;TZID=Australia/Brisbane:20260429T140000
DTSTAMP:20260421T032057
CREATED:20260310T012917Z
LAST-MODIFIED:20260310T012917Z
UID:10004624-1777460400-1777471200@chermsideguide.com.au
SUMMARY:SOUNDBITES | DAVE CLAYTON AT KEDRON-WAVELL
DESCRIPTION:Working many years in clubs\, Dave likes to entertainment people and help them enjoy the day or evening by covering a wide range of music\, country\, rock’n’roll and ballads.
URL:https://chermsideguide.com.au/event/soundbites-dave-clayton-at-kedron-wavell-4/
ATTACH;FMTTYPE=image/png:https://chermsideguide.com.au/wp-content/uploads/2025/01/Dave-Clayton.png
END:VEVENT
BEGIN:VEVENT
DTSTART;TZID=Australia/Brisbane:20260429T190000
DTEND;TZID=Australia/Brisbane:20260429T210000
DTSTAMP:20260421T032057
CREATED:20251009T002235Z
LAST-MODIFIED:20260310T012958Z
UID:10003157-1777489200-1777496400@chermsideguide.com.au
SUMMARY:Kevin Bloody Wilson | Kedron-Wavell
DESCRIPTION:Just back from a sold out UK and Ireland tour\, much loved comedian and singer/songwriter Kevin Bloody Wilson is set to embark on his new “Aussie Icon Tour” performing his funniest songs\, hilarious stories and shooting down political correctness for audiences around Australia. \n“I love being on stage when every bugger in the audience knows every word to my songs. I now call them my DILLIGAF CHOIR” I don’t think there is a bigger choir in the world than the Kevin Bloody Wilson DILLIGAF CHOIR!” said Kevin today. \nKev’s favourite support act (and his daughter) Jenny Talia from Australia will be the first on stage every night to make sure the audience is warmed up by performing all her hits. \nWith 350 million TikTok views\, 4 million records sold and 6 million ticket sales around the World\, Kevin Bloody Wilson is not slowing down – There is too much political correctness to incorrect! Grab your tickets here. \nDoors open: 6:30pm \nEntertainment starts: 7pm \n18+ only event. \nTerms & conditions apply. Event subject to availability\, change or cancellation. Tickets are non-refundable.
URL:https://chermsideguide.com.au/event/kevin-bloody-wilson-kedron-wavell/
LOCATION:Kedron-Wavell\, 21 Kittyhawk Drive\, Chermside\, 4032\, Australia
ATTACH;FMTTYPE=image/png:https://chermsideguide.com.au/wp-content/uploads/2025/10/EDM-Kevin-Bloody-Wilson-2026.png
END:VEVENT
BEGIN:VEVENT
DTSTART;TZID=Australia/Brisbane:20260429T190000
DTEND;TZID=Australia/Brisbane:20260429T210000
DTSTAMP:20260421T032057
CREATED:20260210T111117Z
LAST-MODIFIED:20260210T130453Z
UID:10004557-1777489200-1777496400@chermsideguide.com.au
SUMMARY:Wednesday Night Trivia at the Homestead Tavern
DESCRIPTION:Think you’ve got what it takes? \nJoin in at the Homestead Tavern every Wednesday night from 7pm for Trivia—good questions\, good laughs\, and even better company.
URL:https://chermsideguide.com.au/event/wednesday-night-trivia-at-the-homestead-tavern-boondall/2026-04-29/
LOCATION:Homestead Tavern\, 114 Zillmere Road\, Boondall\, 4034\, Australia
ATTACH;FMTTYPE=image/png:https://chermsideguide.com.au/wp-content/uploads/2026/02/511114225_1190919746380190_6338681115544814322_n-1200x680-1.png
ORGANIZER;CN="Homestead Tavern":MAILTO:manager@homesteadtavern.com.au
END:VEVENT
BEGIN:VEVENT
DTSTART;TZID=Australia/Brisbane:20260430T190000
DTEND;TZID=Australia/Brisbane:20260430T210000
DTSTAMP:20260421T032057
CREATED:20251223T041319Z
LAST-MODIFIED:20251223T041319Z
UID:10003295-1777575600-1777582800@chermsideguide.com.au
SUMMARY:Trivia Thursday's at Kedron-Wavell
DESCRIPTION:Join us for an exciting evening of trivia at Kedron-Wavell\, hosted by Shaun! Test your knowledge\, enjoy great company and win awesome prizes. Whether you’re a seasoned-pro or a trivia newbie\, we’ve got something for everyone at our free weekly trivia! Grab your friends and join us for a night of guaranteed fun! \nTime: Registration from 7pm | Trivia starts 7:30pm \nWhen: Every Thursday night \nWhere: Kedron-Wavell in the Bravo Bar \nPrice: Free! \nBookings for this event are preferred. Call (07) 3359 9122 or click here to book your team in.
URL:https://chermsideguide.com.au/event/trivia-thursdays-at-kedron-wavell/2026-04-30/
LOCATION:Kedron-Wavell\, 21 Kittyhawk Drive\, Chermside\, 4032\, Australia
ATTACH;FMTTYPE=image/jpeg:https://chermsideguide.com.au/wp-content/uploads/2025/07/Web-Tile-600-x-357-Trivia-2048x1280-1.jpg
ORGANIZER;CN="Kedron-Wavell":MAILTO:kwsc_marketing@kedron-wavell.com.au
END:VEVENT
BEGIN:VEVENT
DTSTART;TZID=Australia/Brisbane:20260501T170000
DTEND;TZID=Australia/Brisbane:20260501T200000
DTSTAMP:20260421T032057
CREATED:20260107T112145Z
LAST-MODIFIED:20260107T112145Z
UID:10003519-1777654800-1777665600@chermsideguide.com.au
SUMMARY:Live Music - The Sporting Globe | Chermside
DESCRIPTION:Enjoy your Friday & Saturday Nights at The Sporting Globe Chermside with live music!
URL:https://chermsideguide.com.au/event/live-music-the-sporting-globe-chermside/2026-05-01/
LOCATION:The Sporting Globe\, Shop R1\, Gympie Rd\, Chermside\, QLD\, 4032\, Australia
ATTACH;FMTTYPE=image/jpeg:https://chermsideguide.com.au/wp-content/uploads/2026/01/CM_LM.jpg
ORGANIZER;CN="The Sporting Globe":MAILTO:chermside@sportingglobe.com.au
END:VEVENT
BEGIN:VEVENT
DTSTART;TZID=Australia/Brisbane:20260501T170000
DTEND;TZID=Australia/Brisbane:20260501T200000
DTSTAMP:20260421T032057
CREATED:20260420T032625Z
LAST-MODIFIED:20260420T032625Z
UID:10004656-1777654800-1777665600@chermsideguide.com.au
SUMMARY:FREE LIVE MUSIC | HARRY MORRIS AT KEDRON WAVELL
DESCRIPTION:Harry Morris is an experienced acoustic musician who has captivated audiences across Queensland with his versatile performances. Known for his ability to bring both high-energy dance anthems and laid-back\, atmospheric vibes\, Harry’s diverse setlist features an eclectic mix of covers that span across genres and eras. Whether you’re looking to get the crowd dancing or create the perfect mood for any event\, Harry’s dynamic stage presence and skillful musicianship ensure an unforgettable experience. From intimate gatherings to large-scale events\, Harry’s acoustic performances are tailored to fit any occasion.
URL:https://chermsideguide.com.au/event/free-live-music-harry-morris-at-kedron-wavell-6/
ATTACH;FMTTYPE=image/png:https://chermsideguide.com.au/wp-content/uploads/2025/05/Harry-Morris.png
END:VEVENT
BEGIN:VEVENT
DTSTART;TZID=Australia/Brisbane:20260501T170000
DTEND;TZID=Australia/Brisbane:20260501T210000
DTSTAMP:20260421T032057
CREATED:20260210T114348Z
LAST-MODIFIED:20260210T130610Z
UID:10004297-1777654800-1777669200@chermsideguide.com.au
SUMMARY:Live Music Fridays at the Homestead Tavern
DESCRIPTION:Start your weekend right with Live Music Fridays at Homestead Tavern from 5pm. \nEnjoy live local music\, great atmosphere\, and all your favourites at the bar. \nMake yourself at home\, with a courtesy bus running from 2:30pm until late for a stress-free night out.
URL:https://chermsideguide.com.au/event/live-music-fridays-at-the-homestead-tavern-boondall/2026-05-01/
LOCATION:Homestead Tavern\, 114 Zillmere Road\, Boondall\, 4034\, Australia
ATTACH;FMTTYPE=image/png:https://chermsideguide.com.au/wp-content/uploads/2026/02/Friday-music_1200x680.png
ORGANIZER;CN="Homestead Tavern":MAILTO:manager@homesteadtavern.com.au
END:VEVENT
BEGIN:VEVENT
DTSTART;TZID=Australia/Brisbane:20260501T200000
DTEND;TZID=Australia/Brisbane:20260501T200000
DTSTAMP:20260421T032057
CREATED:20260413T062238Z
LAST-MODIFIED:20260413T062238Z
UID:10004650-1777665600-1777665600@chermsideguide.com.au
SUMMARY:Karaoke Night at Geebung RSL | Geebung
DESCRIPTION:Join Steve Hill for an exciting Mother’s Day celebration with live music and entertainment\, guaranteed to deliver unforgettable moments and fun!
URL:https://chermsideguide.com.au/event/karaoke-night-at-geebung-rsl/
LOCATION:Geebung RSL\, 323 Newman Rd\, Geebung\, QLD\, 4034
ATTACH;FMTTYPE=image/jpeg:https://chermsideguide.com.au/wp-content/uploads/2026/04/Karaoke-Nights.jpg
ORGANIZER;CN="Geebung RSL":MAILTO:info@geebungrsl.com.au
END:VEVENT
BEGIN:VEVENT
DTSTART;TZID=Australia/Brisbane:20260501T200000
DTEND;TZID=Australia/Brisbane:20260501T200000
DTSTAMP:20260421T032057
CREATED:20260420T032935Z
LAST-MODIFIED:20260420T040559Z
UID:10004658-1777665600-1777665600@chermsideguide.com.au
SUMMARY:FREE LIVE MUSIC | JUNCTION ROAD DUO AT KEDRON WAVELL
DESCRIPTION:Let’s elevate your evening and keep the party going. Junction Road brings quality sound\, amazing vocals\, sweet guitar and the songs you remember from the radio. Favourites from Country\, Pop\, Rock\, RnB and 80’s\, 90’s\, there aren’t too many genres singer Rachel Clancy won’t tackle. With their wide variety of songs and big quality sound\, these seasoned professionals will have you laughing\, singing\, dancing and wanting more.
URL:https://chermsideguide.com.au/event/free-live-music-junction-road-duo-at-kedron-wavell-2/
ATTACH;FMTTYPE=image/jpeg:https://chermsideguide.com.au/wp-content/uploads/2025/12/Junction-Road-Duo-1.jpeg
END:VEVENT
BEGIN:VEVENT
DTSTART;TZID=Australia/Brisbane:20260502T133000
DTEND;TZID=Australia/Brisbane:20260502T170000
DTSTAMP:20260421T032057
CREATED:20260420T041302Z
LAST-MODIFIED:20260420T041302Z
UID:10004659-1777728600-1777741200@chermsideguide.com.au
SUMMARY:FREE LIVE MUSIC | ARIA COOK AT KEDRON WAVELL
DESCRIPTION:Aria Cook is an exciting emerging vocal\, keyboard\, and songwriting talent\, now collaborating with Australian Idol Top 21 artist Natasha Rose in a dynamic new band. Together\, they’ll kick off 2025 by supporting the internationally renowned pop-indie outfit Sheppard at the closing ceremony of the 2025 Australian Jamboree—a milestone event showcasing their fresh\, powerful sound—before Sheppard embarks on the European leg of their Zora tour. \nAria has extensive live experience\, having performed at major festivals and top-tier venues across Brisbane. In 2024\, her debut single Vampire reached the #1 spot on the US’s most influential indie chart\, aBreak58\, marking a pivotal moment in her career. It was during this time that she met US hitmaker Tanner Southerland\, leading to their collaboration on Come Over. The track dominated the Atomic Top 20 chart for four consecutive weeks\, solidifying Aria’s place as a rising star on the global music scene. \nAfter taking an indefinite hiatus from Vegas Rayz\, the Brisbane-based band formed in 2021 through KIIS 97.3FM’s “Band That Brisbane Built\,” Aria has continued to thrive in her solo career and new band endeavours. Her debut single Vampire has garnered over 80\,000 streams on Spotify. Now\, she’s crafting her first EP\, collaborating with some of Brisbane’s most talented artists. \nAria’s vocal profile\, characterised by emotional depth and angelic control\, has earned high praise from renowned Australian artists: \nJessica Mauboy\n“There’s so much vulnerability\, there’s so much heartache in that voice.” \nGeorge Sheppard\n“You have such incredible control over your voice. Your pitch and the vibrato were an angelic thing.” \nWith an exciting year ahead and a high-profile performance to start 2025\, Aria Cook’s future shines brighter than ever.
URL:https://chermsideguide.com.au/event/free-live-music-aria-cook-at-kedron-wavell-5/
ATTACH;FMTTYPE=image/jpeg:https://chermsideguide.com.au/wp-content/uploads/2024/07/Aria-Cook.jpg
END:VEVENT
BEGIN:VEVENT
DTSTART;TZID=Australia/Brisbane:20260502T170000
DTEND;TZID=Australia/Brisbane:20260502T200000
DTSTAMP:20260421T032057
CREATED:20260107T112145Z
LAST-MODIFIED:20260107T112145Z
UID:10003520-1777741200-1777752000@chermsideguide.com.au
SUMMARY:Live Music - The Sporting Globe | Chermside
DESCRIPTION:Enjoy your Friday & Saturday Nights at The Sporting Globe Chermside with live music!
URL:https://chermsideguide.com.au/event/live-music-the-sporting-globe-chermside/2026-05-02/
LOCATION:The Sporting Globe\, Shop R1\, Gympie Rd\, Chermside\, QLD\, 4032\, Australia
ATTACH;FMTTYPE=image/jpeg:https://chermsideguide.com.au/wp-content/uploads/2026/01/CM_LM.jpg
ORGANIZER;CN="The Sporting Globe":MAILTO:chermside@sportingglobe.com.au
END:VEVENT
BEGIN:VEVENT
DTSTART;TZID=Australia/Brisbane:20260502T180000
DTEND;TZID=Australia/Brisbane:20260502T180000
DTSTAMP:20260421T032057
CREATED:20250910T075855Z
LAST-MODIFIED:20260413T062405Z
UID:10003118-1777744800-1777744800@chermsideguide.com.au
SUMMARY:Mr John at Geebung RSL | Geebung
DESCRIPTION:Enjoy good music at the bridge only at Geebung RSL.
URL:https://chermsideguide.com.au/event/mr-john-at-geebung-rsl-sandgate/
LOCATION:Geebung RSL\, 323 Newman Rd\, Geebung\, QLD\, 4034
ATTACH;FMTTYPE=image/jpeg:https://chermsideguide.com.au/wp-content/uploads/2025/01/shutterstock_2446450751.jpg
ORGANIZER;CN="geebung rsl":MAILTO:info@geebungrsl.com.au
END:VEVENT
BEGIN:VEVENT
DTSTART;TZID=Australia/Brisbane:20260502T200000
DTEND;TZID=Australia/Brisbane:20260502T200000
DTSTAMP:20260421T032057
CREATED:20260420T041403Z
LAST-MODIFIED:20260420T041512Z
UID:10004661-1777752000-1777752000@chermsideguide.com.au
SUMMARY:FREE LIVE MUSIC | PURPLE MARTINI AT KEDRON WAVELL
DESCRIPTION:Priding themselves on their combined knowledge of several genres of music spanning from the jazz/swing era right through to the latest dance hits\, “Purple Martini” will keep the dance-floor pumping all night long. With easy listening velvety lounge vibes that entice in your guests\, through to high energy party hits that will have everyone on the dance floor\, “Purple Martini” is smooth like the perfectly blended cocktail\, sprinkled with a dash of class\, and just the right amount of kick!
URL:https://chermsideguide.com.au/event/free-live-music-purple-martini-at-kedron-wavell-2/
ATTACH;FMTTYPE=image/jpeg:https://chermsideguide.com.au/wp-content/uploads/2025/12/Purple-Martini-scaled.jpg
END:VEVENT
END:VCALENDAR